BEGIN:VCALENDAR
VERSION:2.0
PRODID:-//OSPD - ECPv6.15.20//NONSGML v1.0//EN
CALSCALE:GREGORIAN
METHOD:PUBLISH
X-WR-CALNAME:OSPD
X-ORIGINAL-URL:https://www.statepublicdefender.la.gov
X-WR-CALDESC:Events for OSPD
REFRESH-INTERVAL;VALUE=DURATION:PT1H
X-Robots-Tag:noindex
X-PUBLISHED-TTL:PT1H
BEGIN:VTIMEZONE
TZID:America/Chicago
BEGIN:DAYLIGHT
TZOFFSETFROM:-0600
TZOFFSETTO:-0500
TZNAME:CDT
DTSTART:20240310T080000
END:DAYLIGHT
BEGIN:STANDARD
TZOFFSETFROM:-0500
TZOFFSETTO:-0600
TZNAME:CST
DTSTART:20241103T070000
END:STANDARD
BEGIN:DAYLIGHT
TZOFFSETFROM:-0600
TZOFFSETTO:-0500
TZNAME:CDT
DTSTART:20250309T080000
END:DAYLIGHT
BEGIN:STANDARD
TZOFFSETFROM:-0500
TZOFFSETTO:-0600
TZNAME:CST
DTSTART:20251102T070000
END:STANDARD
BEGIN:DAYLIGHT
TZOFFSETFROM:-0600
TZOFFSETTO:-0500
TZNAME:CDT
DTSTART:20260308T080000
END:DAYLIGHT
BEGIN:STANDARD
TZOFFSETFROM:-0500
TZOFFSETTO:-0600
TZNAME:CST
DTSTART:20261101T070000
END:STANDARD
END:VTIMEZONE
BEGIN:VEVENT
DTSTART;VALUE=DATE:20250415
DTEND;VALUE=DATE:20250416
DTSTAMP:20260425T125953
CREATED:20241115T220118Z
LAST-MODIFIED:20241231T213959Z
UID:898-1744675200-1744761599@www.statepublicdefender.la.gov
SUMMARY:Monthly Financial Report
DESCRIPTION:
URL:https://www.statepublicdefender.la.gov/events/monthly-financial-report-6/
LOCATION:LA
END:VEVENT
BEGIN:VEVENT
DTSTART;VALUE=DATE:20250415
DTEND;VALUE=DATE:20250416
DTSTAMP:20260425T125953
CREATED:20241115T220133Z
LAST-MODIFIED:20241231T213845Z
UID:899-1744675200-1744761599@www.statepublicdefender.la.gov
SUMMARY:Personnel Compensation Report
DESCRIPTION:
URL:https://www.statepublicdefender.la.gov/events/personnel-compensation-report-6/
LOCATION:LA
END:VEVENT
END:VCALENDAR