BEGIN:VCALENDAR
VERSION:2.0
PRODID:-//OSPD - ECPv6.15.20//NONSGML v1.0//EN
CALSCALE:GREGORIAN
METHOD:PUBLISH
X-WR-CALNAME:OSPD
X-ORIGINAL-URL:https://www.statepublicdefender.la.gov
X-WR-CALDESC:Events for OSPD
REFRESH-INTERVAL;VALUE=DURATION:PT1H
X-Robots-Tag:noindex
X-PUBLISHED-TTL:PT1H
BEGIN:VTIMEZONE
TZID:America/Chicago
BEGIN:DAYLIGHT
TZOFFSETFROM:-0600
TZOFFSETTO:-0500
TZNAME:CDT
DTSTART:20250309T080000
END:DAYLIGHT
BEGIN:STANDARD
TZOFFSETFROM:-0500
TZOFFSETTO:-0600
TZNAME:CST
DTSTART:20251102T070000
END:STANDARD
BEGIN:DAYLIGHT
TZOFFSETFROM:-0600
TZOFFSETTO:-0500
TZNAME:CDT
DTSTART:20260308T080000
END:DAYLIGHT
BEGIN:STANDARD
TZOFFSETFROM:-0500
TZOFFSETTO:-0600
TZNAME:CST
DTSTART:20261101T070000
END:STANDARD
BEGIN:DAYLIGHT
TZOFFSETFROM:-0600
TZOFFSETTO:-0500
TZNAME:CDT
DTSTART:20270314T080000
END:DAYLIGHT
BEGIN:STANDARD
TZOFFSETFROM:-0500
TZOFFSETTO:-0600
TZNAME:CST
DTSTART:20271107T070000
END:STANDARD
END:VTIMEZONE
BEGIN:VEVENT
DTSTART;VALUE=DATE:20260109
DTEND;VALUE=DATE:20260110
DTSTAMP:20260421T132223
CREATED:20251126T163050Z
LAST-MODIFIED:20251126T163310Z
UID:1531-1767916800-1768003199@www.statepublicdefender.la.gov
SUMMARY:Due CY 2025 Annual Report District Narratives
DESCRIPTION:Compliance Division Report | Friday\, January 9\, 2026\, by 5:00pm
URL:https://www.statepublicdefender.la.gov/events/due-cy-2025-annual-report-district-narratives/
LOCATION:LA
END:VEVENT
BEGIN:VEVENT
DTSTART;VALUE=DATE:20260109
DTEND;VALUE=DATE:20260110
DTSTAMP:20260421T132223
CREATED:20251126T163129Z
LAST-MODIFIED:20251126T163325Z
UID:1532-1767916800-1768003199@www.statepublicdefender.la.gov
SUMMARY:CY 2025 Caseload Reports
DESCRIPTION:Compliance Division Report | Friday\, January 9\, 2026\, by 5:00pm
URL:https://www.statepublicdefender.la.gov/events/cy-2025-caseload-reports/
LOCATION:LA
END:VEVENT
BEGIN:VEVENT
DTSTART;VALUE=DATE:20260115
DTEND;VALUE=DATE:20260116
DTSTAMP:20260421T132223
CREATED:20251126T163228Z
LAST-MODIFIED:20251126T163228Z
UID:1533-1768435200-1768521599@www.statepublicdefender.la.gov
SUMMARY:December 2025 Monthly Financial Reports
DESCRIPTION:Compliance Division Report | Thursday\, January 15\, 2026\, before Midnight
URL:https://www.statepublicdefender.la.gov/events/december-2025-monthly-financial-reports/
LOCATION:LA
END:VEVENT
BEGIN:VEVENT
DTSTART;VALUE=DATE:20260309
DTEND;VALUE=DATE:20260310
DTSTAMP:20260421T132223
CREATED:20260305T180326Z
LAST-MODIFIED:20260305T180326Z
UID:1662-1773014400-1773100799@www.statepublicdefender.la.gov
SUMMARY:Regular Legislative Session Convenes
DESCRIPTION:
URL:https://www.statepublicdefender.la.gov/events/regular-legislative-session-convenes-2/
LOCATION:LA
END:VEVENT
BEGIN:VEVENT
DTSTART;VALUE=DATE:20260601
DTEND;VALUE=DATE:20260602
DTSTAMP:20260421T132223
CREATED:20260305T180414Z
LAST-MODIFIED:20260305T180414Z
UID:1663-1780272000-1780358399@www.statepublicdefender.la.gov
SUMMARY:Regular Legislative Session Adjourns
DESCRIPTION:
URL:https://www.statepublicdefender.la.gov/events/regular-legislative-session-adjourns-2/
LOCATION:LA
END:VEVENT
BEGIN:VEVENT
DTSTART;TZID=America/Chicago:20260723T083000
DTEND;TZID=America/Chicago:20260723T161500
DTSTAMP:20260421T132223
CREATED:20260320T145911Z
LAST-MODIFIED:20260330T195914Z
UID:1667-1784795400-1784823300@www.statepublicdefender.la.gov
SUMMARY:OSPD Juvenile Justice Summit
DESCRIPTION:
URL:https://www.statepublicdefender.la.gov/events/ospd-juvenile-justice-summit/
LOCATION:Stadium Club South – LSU Tiger Stadium (Gate 20)\, 50 Fieldhouse Drive\, Baton Rouge\, LA\, 70808\, United States
END:VEVENT
END:VCALENDAR